Workbook

Sheet DESPESES GLOBALS
A3: ESTIMACIÓ COSTOS GLOBALS 2026 | C3: TOTAL
A4: COSTOS GLOBALS | B4: Cost recollida porta a porta (inclou domèstica i comercial) | C4: -2470430
B5: Despeses gestió Consell Comarcal | C5: -82018.276
B6: Ampliacions servei porta a porta | C6: -135699.66
B7: Millores tecnològiques | C7: -130000
B8: Cost tractament fracció resta | C8: -146767.96
B9: Cost tractament fracció orgànica | C9: -602550.9
B10: Despeses gestió i recaptació taxa comarcal | C10: -96998.572
B11: TOTAL COSTOS PART COMARCAL | C11: -3664465.4

Sheet DESPESES ESPECÍFIQUES
A3: ESTIMACIÓ COSTOS ESPECÍFICS 2026 | B3: Aiguaviva | C3: Bescanó | D3: Bordils | E3: Campllong
A4: Recollida voluminosos | B4: -4039.42 | C4: -20451.574 | D4: -6350.08 | E4: -3276.999
A5: Recollida fracció vegetal | B5: 0 | C5: -35310.83 | D5: 0 | E5: 0
A6: Tractament fracció vegetal | B6: 0 | C6: -1798.368 | D6: 0 | E6: 0
A7: Tractament de voluminosos | B7: -1072.28 | C7: -3819.18 | D7: -1321.98 | E7: -525.72
A8: Servei de deixalleria | B8: 0 | C8: -44780.29 | D8: -15740.51 | E8: -4336.89
A9: Servei de deixalleria mòbil | B9: 0 | C9: 0 | D9: 0 | E9: -3525.12
A10: Recollida oli vegetal usat | B10: 0 | C10: 0 | D10: 0 | E10: 0
A11: Serveis extres (inclou bosses compostables) | B11: 0 | C11: -8789.04 | D11: -600 | E11: 0
A12: Total costos part específica | B12: -5111.7 | C12: -114949.28 | D12: -24012.57 | E12: -11664.729
A15: ESTIMACIÓ COSTOS ESPECÍFICS 2026 | B15: Cervià de Ter | C15: Flaçà | D15: Fornells de la Selva | E15: Juià
A16: Recollida voluminosos | B16: -4261.4 | C16: -4578.42 | D16: -14988.501 | E16: -2800.292
A17: Recollida fracció vegetal | B17: -6000 | C17: -1600 | D17: 0 | E17: 0
A18: Tractament fracció vegetal | B18: -1489.708 | C18: -268.334 | D18: 0 | E18: 0
A19: Tractament de voluminosos | B19: -1217 | C19: -722.44 | D19: -3674.84 | E19: -410.38
A20: Servei de deixalleria | B20: -2677.1025 | C20: -7358.98 | D20: -9887.96 | E20: -2379.23
A21: Servei de deixalleria mòbil | B21: -3525.12 | C21: -1175.04 | D21: -4524 | E21: 0
A22: Recollida oli vegetal usat | B22: 0 | C22: 0 | D22: 0 | E22: 0
A23: Serveis extres (inclou bosses compostables) | B23: 0 | C23: -524.12 | D23: 2774 | E23: -185.6
A24: Total costos part específica | B24: -19170.331 | C24: -16227.334 | D24: -30301.301 | E24: -5775.502
A26: ESTIMACIÓ COSTOS ESPECÍFICS 2026 | B26: Quart | C26: Sant Andreu Salou | D26: Sant Gregori | E26: Sant Joan de Mollet
A27: Recollida voluminosos | B27: -17738.622 | C27: -2373.646 | D27: 0 | E27: -3198.349
A28: Recollida fracció vegetal | B28: -7500.24 | C28: 0 | D28: -18182.4 | E28: 0
A29: Tractament fracció vegetal | B29: -740.212 | C29: 0 | D29: -1793.528 | E29: 0
A30: Tractament de voluminosos | B30: -3512.82 | C30: 0 | D30: 0 | E30: -493.48
A31: Servei de deixalleria | B31: 0 | C31: -551.23 | D31: -53234.59 | E31: -2744.57
A32: Servei de deixalleria mòbil | B32: 0 | C32: 0 | D32: 0 | E32: 0
A33: Recollida oli vegetal usat | B33: 0 | C33: 0 | D33: 0 | E33: 0
A34: Serveis extres (inclou bosses compostables) | B34: -6272.16 | C34: 0 | D34: -2883.92 | E34: 0
A35: Total costos part específica | B35: -35764.054 | C35: -2924.876 | D35: -76094.438 | E35: -6436.399
A38: ESTIMACIÓ COSTOS ESPECÍFICS 2026 | B38: Sant Julià de Ramis | C38: Sarrià de Ter | D38: TOTAL
A39: Recollida voluminosos | B39: -16923.94 | C39: -14999.797 | D39: -115981.04
A40: Recollida fracció vegetal | B40: -15909.6 | C40: -12590.97 | D40: -97094.04
A41: Tractament fracció vegetal | B41: -1704.164 | C41: -935.858 | D41: -8730.172
A42: Tractament de voluminosos | B42: -3340.42 | C42: -1728.66 | D42: -21839.2
A43: Servei de deixalleria | B43: -19010.955 | C43: -32280.16 | D43: -194982.47
A44: Servei de deixalleria mòbil | B44: 0 | C44: 0 | D44: -12749.28
A45: Recollida oli vegetal usat | B45: 0 | C45: 0 | D45: 0
A46: Serveis extres (inclou bosses compostables) | B46: -4986.4 | C46: -5989.58 | D46: -27456.82
A47: Total costos part específica | B47: -61875.479 | C47: -68525.025 | D47: -478833.02

Sheet INGRESSOS SERVEIS
A2: ESTIMACIÓ INGRESSOS 2026 | B2: TOTAL
A3: Retorn de l’impost cedit (fracció orgànica) | B3: 527689.19
A4: Venda de paper/cartró | B4: 46461.47
A5: Retorn recollida paper/cartró (Ecoembes) | B5: 34937.243
A6: Retorn recollida envasos lleugers (Ecomebes) | B6: 369482.32
A7: Retorn recollida vidre (Ecovidrio) | B7: 62892.786
A8: TOTAL INGRESSOS | B8: 1041463

Sheet COST SERVEI
A3: COST NET DEL SERVEI 2026 | C3: TOTAL
A4: Part global | B4: Costos part global | C4: -3664465.4
B5: Ingressos part global | C5: 1041463
B6: Total costos nets part global | C6: -2623002.4
A7: Part específica | B7: Costos part específica | C7: -478833.02
B8: Total costos part específica | C8: -478833.02
B9: TOTAL COST NET | C9: -3101835.4

Sheet RECAPTACIÓ HABITATGES
A2: TARIFA PART FIXA COMARCAL | D2: PAP | E2: AT
A3: PART FIXA COMARCAL | D3: 167 | E3: 120
D4: AIGUAVIVA | E4: BESCANÓ | F4: BORDILS | G4: CAMPLLONG | H4: CERVIÀ DE TER | I4: FLAÇÀ | J4: FORNELLS DE LA SELVA | K4: JUIÀ | L4: QUART | M4: SANT ANDREU SALOU | N4: SANT GREGORI | O4: SANT JOAN DE MOLLET | P4: SANT JULIÀ DE RAMIS | Q4: SARRIÀ DE TER | R4: TOTAL
A5: TARIFA PART FIXA MUNICIPAL
A6: PART FIXA MUNICIPAL | D6: 15.629299 | E6: 46.350517 | F6: 26.302428 | G6: 48.842461 | H6: 37.202696 | I6: 26.074166 | J6: 24.957467 | K6: 29.048383 | L6: 19.650579 | M6: 30.693143 | N6: 42.413293 | O6: 23.683719 | P6: 36.90818 | Q6: 26.131122 | R6: 31.877198
A8: PART FIXA TOTAL PAP 2026 | D8: 182.6293 | E8: 213.35052 | F8: 193.30243 | G8: 215.84246 | H8: 204.2027 | I8: 193.07417 | J8: 191.95747 | K8: 196.04838 | L8: 186.65058 | M8: 197.69314 | N8: 209.41329 | O8: 190.68372 | P8: 203.90818 | Q8: 193.13112 | R8: 198.8772
A9: PART FIXA TOTAL AT 2026 | D9: 135.6293 | E9: 166.35052 | F9: 146.30243 | G9: 168.84246 | H9: 157.2027 | I9: 146.07417 | J9: 144.95747 | K9: 149.04838 | L9: 139.65058 | M9: 150.69314 | N9: 162.41329 | O9: 143.68372 | P9: 156.90818 | Q9: 146.13112 | R9: 151.8772
A11: PART FIXA TOTAL PAP 2025 | D11: 182.62945 | E11: 213.57401 | F11: 181.16111 | G11: 202.05994 | H11: 214.65424 | I11: 187.01678 | J11: 191.95762 | K11: 192.14915 | L11: 185.99369 | N11: 198.07091 | O11: 184.6259 | P11: 203.90546 | Q11: 188.27223 | R11: 195.42584
A12: PART FIXA TOTAL AT 2025 | D12: 135.62945 | E12: 166.57401 | F12: 134.16111 | G12: 155.05994 | H12: 167.65424 | I12: 140.01678 | J12: 144.95762 | K12: 145.14915 | L12: 138.99369 | N12: 151.07091 | O12: 137.6259 | P12: 156.90546 | Q12: 141.27223 | R12: 148.42584
A13: DIFERÈNCIA | D13: -0.00014982014 | E13: -0.22349234 | F13: 12.141317 | G13: 13.78252 | H13: -10.451547 | I13: 6.0573864 | J13: -0.00014825581 | K13: 3.8992317 | L13: 0.65689045 | M13: 197.69314 | N13: 11.342386 | O13: 6.0578175 | P13: 0.0027185831 | Q13: 4.8588907 | R13: 3.4513578
D14: -0.00014982014 | E14: -0.22349234 | F14: 12.141317 | G14: 13.78252 | H14: -10.451547 | I14: 6.0573864 | J14: -0.00014825581 | K14: 3.8992317 | L14: 0.65689045 | M14: 150.69314 | N14: 11.342386 | O14: 6.0578175 | P14: 0.0027185831 | Q14: 4.8588907 | R14: 3.4513578
A16: RECAPTACIÓ PART FIXA | D16: AIGUAVIVA | E16: BESCANÓ | F16: BORDILS | G16: CAMPLLONG | H16: CERVIÀ DE TER | I16: FLAÇÀ | J16: FORNELLS DE LA SELVA | K16: JUIÀ | L16: QUART | M16: SANT ANDREU SALOU | N16: SANT GREGORI | O16: SANT JOAN DE MOLLET | P16: SANT JULIÀ DE RAMIS | Q16: SARRIÀ DE TER | R16: TOTAL
A17: Nº habitatges | D17: 284 | E17: 2130 | F17: 789 | G17: 200 | H17: 432 | I17: 527 | J17: 1052 | K17: 153 | L17: 1579 | M17: 81 | N17: 1563 | O17: 230 | P17: 1410 | Q17: 2220 | R17: 12650
A18: Nº habitatges PAP | D18: 220 | E18: 1973 | F18: 718 | G18: 150 | H18: 404 | I18: 508 | J18: 955 | K18: 153 | L18: 1483 | M18: 81 | N18: 1294 | O18: 230 | P18: 1338 | Q18: 2194 | R18: 11701
A19: Nº habitatges AT | D19: 64 | E19: 157 | F19: 71 | G19: 50 | H19: 28 | I19: 19 | J19: 97 | K19: 0 | L19: 96 | M19: 0 | N19: 269 | O19: 0 | P19: 72 | Q19: 26 | R19: 949
A20: Habitatges amb descompte quota reduïda PAP (2%) | D20: 4.4 | E20: 39.46 | F20: 14.36 | G20: 3 | H20: 8.08 | I20: 10.16 | J20: 19.1 | K20: 3.06 | L20: 29.66 | M20: 1.62 | N20: 25.88 | O20: 4.6 | P20: 26.76 | Q20: 43.88 | R20: 234.02
A21: Habitatges amb descompte quota reduïda AT (2%) | D21: 1.28 | E21: 3.14 | F21: 1.42 | G21: 1 | H21: 0.56 | I21: 0.38 | J21: 1.94 | K21: 0 | L21: 1.92 | M21: 0 | N21: 5.38 | O21: 0 | P21: 1.44 | Q21: 0.52 | R21: 18.98
A22: PAP
A23: QUOTA PART FIXA PAP | D23: 182.6293 | E23: 213.35052 | F23: 193.30243 | G23: 215.84246 | H23: 204.2027 | I23: 193.07417 | J23: 191.95747 | K23: 196.04838 | L23: 186.65058 | M23: 197.69314 | N23: 209.41329 | O23: 190.68372 | P23: 203.90818 | Q23: 193.13112 | R23: 198.8772
A24: Reducció quota | D24: 54.78879 | E24: 64.005155 | F24: 57.990729 | G24: 64.752738 | H24: 61.260809 | I24: 57.92225 | J24: 57.58724 | K24: 58.814515 | L24: 55.995174 | M24: 59.307943 | N24: 62.823988 | O24: 57.205116 | P24: 61.172454 | Q24: 57.939337 | R24: 59.663159
A25: Recaptació amb reducció quota | D25: 39937.375 | E25: 418414.93 | F25: 137958.4 | G25: 32182.111 | H25: 82002.902 | I25: 97493.186 | J25: 182219.46 | K25: 29815.43 | L25: 275141.99 | M25: 15917.066 | N25: 269354.92 | O25: 43594.112 | P25: 271192.17 | Q25: 421187.3 | R25: 2316411.4
A26: AT
A27: QUOTA PART FIXA AT | D27: 135.6293 | E27: 166.35052 | F27: 146.30243 | G27: 168.84246 | H27: 157.2027 | I27: 146.07417 | J27: 144.95747 | K27: 149.04838 | L27: 139.65058 | M27: 150.69314 | N27: 162.41329 | O27: 143.68372 | P27: 156.90818 | Q27: 146.13112 | R27: 151.8772
A28: Reducció quota | D28: 40.68879 | E28: 49.905155 | F28: 43.890729 | G28: 50.652738 | H28: 47.160809 | I28: 43.82225 | J28: 43.48724 | K28: 44.714515 | L28: 41.895174 | M28: 45.207943 | N28: 48.723988 | O28: 43.105116 | P28: 47.072454 | Q28: 43.839337 | R28: 45.563159
A29: Recaptació amb reducció quota | D29: 8628.1935 | E29: 25960.329 | F29: 10325.148 | G29: 8391.4703 | H29: 4375.2654 | I29: 2758.7567 | J29: 13976.509 | K29: 0 | L29: 13326.017 | M29: 0 | N29: 43427.041 | O29: 0 | P29: 11229.605 | Q29: 3776.6127 | R29: 146174.95
A31: TOTAL RECAPTAT PART FIXA AMB REDUCCIÓ | D31: 48565.568 | E31: 444375.26 | F31: 148283.54 | G31: 40573.581 | H31: 86378.167 | I31: 100251.94 | J31: 196195.97 | K31: 29815.43 | L31: 288468.01 | M31: 15917.066 | N31: 312781.96 | O31: 43594.112 | P31: 282421.78 | Q31: 424963.92 | R31: 2462586.3
A32: TOTAL REDUCCIONS | D32: 293.15232 | E32: 2682.3456 | F32: 895.0717 | G32: 244.91095 | H32: 521.39739 | I32: 605.14251 | J32: 1184.2815 | K32: 179.97242 | L32: 1741.2556 | M32: 96.078868 | N32: 1888.0199 | O32: 263.14353 | P32: 1704.7592 | Q32: 2565.1745 | R32: 14827.161
A33: RECAPTACIÓ PART VARIABLE
A34: Nº habitatges PAP | D34: 11701
A35: Habitatges pagats (100%) totalment | D35: 11701
A36: Habitatges pagats amb quota reduïda (0%) | D36: 0
A37: Habitatges AT | D37: 949
A38: TOTAL RECAPTAT PART VARIABLE | D38: 111484.33
A39: Prorrateig part variable per municipi | D39: 2096.1073 | E39: 18798.271 | F39: 6840.932 | G39: 1429.1641 | H39: 3849.2152 | I39: 4840.1023 | J39: 9099.0112 | K39: 1457.7473 | L39: 14129.669 | N39: 12328.922 | O39: 2191.3849 | P39: 12748.143 | Q39: 20903.906 | R39: 111484.33
A40: TOTAL RECAPTAT PART FIXA | C40: 2462586.3 | D40: 0.95668948
A41: TOTAL RECAPTAT PART VARIABLE | C41: 111484.33 | D41: 0.043310515
A42: TOTAL RECAPTAT HABITATGES | C42: 2574070.6
A44: Recaptació variable domèstica
A45: FORM PARTICIPACIÓ | E45: 26619.775
A46: ENVASOS PARTICIPACIÓ | E46: 15211.3
...

Sheet RECAPTACIÓ COMERCIAL 
A2: SETEMBRE 2025 | B2: INGRÉS x VOLUM (gp) | C2: INGRÉS x ÚS AT | D2: INGRÉS ACT. DESCONNECTADES I LOCALS BUITS | E2: INGRÉS EQUIPAMENTS | F2: TOTAL INGRÉS
A3: Aiguaviva (BF) | B3: 11704.6 | C3: 1348 | D3: 20875 | E3: 2702.2 | F3: 36629.8
A4: Bescanó (AF) | B4: 31150.2 | C4: 1685 | D4: 20040 | E4: 11063.4 | F4: 63938.6
A5: Bescanó (BF) | B5: 7753.2 | C5: 0 | D5: 167 | E5: 0 | F5: 7920.2
A6: Bordils | B6: 13647.8 | C6: 1348 | D6: 2672 | E6: 3116.2 | F6: 20784
A7: Campllong | B7: 14410 | C7: 0 | D7: 7849 | E7: 2372.2 | F7: 24631.2
A8: Cervià de Ter | B8: 5691 | C8: 337 | D8: 1002 | E8: 2874.4 | F8: 9904.4
A9: Flaçà | B9: 15316.4 | C9: 0 | D9: 668 | E9: 2479.2 | F9: 18463.6
A10: Fornells de la Selva | B10: 9092.2 | C10: 674 | D10: 22378 | E10: 6516.4 | F10: 38660.6
A11: Juià | B11: 4546.8 | C11: 0 | D11: 334 | E11: 334 | F11: 5214.8
A12: Quart | B12: 18352.4 | C12: 3370 | D12: 11523 | E12: 11595.8 | F12: 44841.2
A13: Sant Andreu Salou | B13: 1594.4 | C13: 0 | D13: 0 | E13: 635.2 | F13: 2229.6
A14: Sant Gregori | B14: 54766.4 | C14: 2696 | D14: 9185 | E14: 14670.4 | F14: 81317.8
... A19: TOTAL | B19: 293043.6 | C19: 12806 | D19: 131596 | E19: 75776.6 | F19: 513222.2
A28: RECAPTACIÓ PART VARIABLE (ANUAL) | D28: 12635.76

Sheet CÀLCUL QUOTES set25
C3: COST TRACTAMENT FORM 2026 | D3: 189
C4: PREVISIÓ COST TRACTAMENT RESTA 2026 | D4: 116.44
C5: PREVISIÓ COST TRACTAMENT REBUIG 2026 | D5: 176.67
C8: ESTIMACIÓ DESPESES 2026 | D8: AIGUAVIVA | E8: BESCANÓ | F8: BORDILS | G8: CAMPLLONG | H8: CERVIÀ DE TER | I8: FLAÇÀ | J8: FORNELLS DE LA SELVA | K8: JUIÀ | L8: QUART | M8: SANT ANDREU SALOU | N8: SANT GREGORI | O8: SANT JOAN DE MOLLET | P8: SANT JULIÀ DE RAMIS | Q8: SARRIÀ DE TER | R8: TOTAL
A9: PART FIXA | B9: COMARCAL | C9: DESPESES (IVA INCLÒS) | D9: -89325.704 | E9: -615489.04 | F9: -203839.64 | G9: -60822.573 | H9: -118125.59 | I9: -156003.06 | J9: -266317.32 | K9: -40332.681 | L9: -386678.96 | M9: -18293.836 | N9: -448602.58 | O9: -70624.347 | P9: -475037.54 | Q9: -562374.56 | R9: -3664465.4
C10: COST RECOLLIDA PAP | D10: -56115.33 | E10: -398108.84 | F10: -147884.16 | G10: -38424.02 | H10: -84344.21 | I10: -110772.84 | J10: -169115.18 | K10: -29490.9 | L10: -273510.16 | M10: -15228.64 | N10: -299971.56 | O10: -54242.16 | P10: -371878.11 | Q10: -421343.89 | R10: -2470430
C11: GESTIÓ CC RECOLLIDA PAP | D11: -1863.029 | E11: -13217.213 | F11: -4909.7541 | G11: -1275.6775 | H11: -2800.2278 | I11: -3677.6583 | J11: -5614.624 | K11: -979.09788 | L11: -9080.5373 | M11: -505.59085 | N11: -9959.0558 | O11: -1800.8397 | P11: -12346.353 | Q11: -13988.617 | R11: -82018.276
C12: AMPLIACIONS SERVEI PAP (Nº habitatges) | D12: -832 | E12: -48388.22 | F12: -2174.7 | G12: -665.66 | H12: -6377.28 | I12: -6474.96 | J12: -3188.64 | L12: -15013.18 | N12: -28127.16 | P12: -1794.26 | Q12: -663.6 | R12: -113699.66
C13: AMPLIACIONS SERVEI PAP 2 (Nº habitatges) | R13: -22000
C14: MILLORES TECONOLOGIA | R14: -130000
C15: ESTIMACIÓ COST TRACTAMENT RESTA (inclou resta de les extres) | D15: -7537.1612 | E15: -27754.638 | F15: -7547.6408 | G15: -4335.0612 | H15: -5278.2252 | I15: -5916.3164 | J15: -14058.966 | K15: -1150.4272 | L15: -14104.377 | M15: -223.5648 | N15: -16907.088 | O15: -1646.4616 | P15: -14978.842 | Q15: -25329.193 | R15: -146767.96
C16: ESTIMACIÓ COST TRACTAMENT FORM | D16: -20774.88 | E16: -112388.85 | F16: -35516.88 | G16: -14613.48 | H16: -16013.97 | I16: -24811.92 | J16: -67699.8 | K16: -7554.33 | L16: -64231.65 | M16: -2336.04 | N16: -81859.68 | O16: -10805.13 | P16: -59438.61 | Q16: -84505.68 | R16: -602550.9
C17: DESPESES GESTIÓ I RECAPTACIÓ TAXA COMARCAL | D17: -2203.3034 | E17: -15631.282 | F17: -5806.5002 | G17: -1508.6746 | H17: -3311.6777 | I17: -4349.3672 | J17: -6640.1116 | K17: -1157.926 | L17: -10739.06 | N17: -11778.036 | O17: -2129.7556 | P17: -14601.363 | Q17: -16543.58 | R17: -96998.572
C18: INGRESSOS (SENSE IVA) | D18: 0 | E18: 0 | F18: 0 | G18: 0 | H18: 0 | I18: 0 | J18: 0 | K18: 0 | L18: 0 | N18: 0 | O18: 0 | P18: 0 | Q18: 0 | R18: 1041463
C19: RETORN DEL CÀNON | R19: 527689.19
C20: VENDA PiC | R20: 46461.47
C21: RETORN PiC - ECOEMBES | R21: 34937.243
C22: RETORN ENVASOS - ECOMEBES | R22: 369482.32
C23: RETORN VIDRE - ECOVIDRIO | R23: 62892.786
C24: INGRESSOS (SENSE IVA) - DESPESES PART COMARCAL | D24: -89325.704 | E24: -615489.04 | F24: -203839.64 | G24: -60822.573 | H24: -118125.59 | I24: -156003.06 | J24: -266317.32 | K24: -40332.681 | L24: -386678.96 | M24: -18293.836 | N24: -448602.58 | O24: -70624.347 | P24: -475037.54 | Q24: -562374.56 | R24: -2623002.4
B25: DEL MUNICIPI | C25: COST RECOLLIDA VOLUMINOSOS (inclou despeses gestió CC) | D25: -4039.42 | E25: -20451.574 | F25: -6350.08 | G25: -3276.999 | H25: -4261.4 | I25: -4578.42 | J25: -14988.501 | K25: -2800.292 | L25: -17738.622 | M25: -2373.646 | O25: -3198.349 | P25: -16923.94 | Q25: -14999.797 | R25: -115981.04
C26: COST RECOLLIDA FV (big bag) | E26: -35310.83 | L26: -7500.24 | N26: -18182.4 | P26: -15909.6 | Q26: -6818.4 | R26: -83721.47
C27: COST RECOLLIDA FV (banyeres) | H27: -6000 | I27: -1600 | Q27: -5772.57 | R27: -13372.57
C28: COST TRACTAMENT FV | E28: -1798.368 | H28: -1489.708 | I28: -268.334 | L28: -740.212 | N28: -1793.528 | P28: -1704.164 | Q28: -935.858 | R28: -8730.172
C29: COST TRACTAMENT VOLUMINOSOS | D29: -1072.28 | E29: -3819.18 | F29: -1321.98 | G29: -525.72 | H29: -1217 | I29: -722.44 | J29: -3674.84 | K29: -410.38 | L29: -3512.82 | O29: -493.48 | P29: -3340.42 | Q29: -1728.66 | R29: -21839.2
C30: DEIXALLERIA (inclou despeses gestió CC) | E30: -44780.29 | F30: -15740.51 | G30: -4336.89 | H30: -2677.1025 | I30: -7358.98 | J30: -9887.96 | K30: -2379.23 | M30: -551.23 | N30: -53234.59 | O30: -2744.57 | P30: -19010.955 | Q30: -32280.16 | R30: -194982.47
C31: DEIXALLERIA MÒBIL (inclou despeses CCG) | G31: -3525.12 | H31: -3525.12 | I31: -1175.04 | J31: -4524 | R31: -12749.28
C32: COST RECOLLIDA OLI VEGETAL USAT (inclou despeses gestió CC) | D32: 0 | E32: 0 | F32: 0 | I32: 0 | J32: 0 | K32: 0 | P32: 0 | R32: 0
C33: COSTOS SERVEIS EXTRES + BOSSES COMPOSTABLES (estimació feta en base al 23) | E33: -8789.04 | F33: -600 | I33: -524.12 | J33: 2774 | K33: -185.6 | L33: -6272.16 | N33: -2883.92 | P33: -4986.4 | Q33: -5989.58 | R33: -27456.82
C34: DESPESES PART MUNICIPAL | D34: -5111.7 | E34: -114949.28 | F34: -24012.57 | G34: -11664.729 | H34: -19170.331 | I34: -16227.334 | J34: -30301.301 | K34: -5775.502 | L34: -35764.054 | M34: -2924.876 | N34: -76094.438 | O34: -6436.399 | P34: -61875.479 | Q34: -68525.025 | R34: -478833.02
B35: TOTAL | C35: TOTAL BALANÇ (ABANS TAXA) | D35: -94437.404 | E35: -730438.33 | F35: -227852.21 | G35: -72487.302 | H35: -137295.92 | I35: -172230.4 | J35: -296618.62 | K35: -46108.183 | L35: -422443.02 | N35: -524697.02 | O35: -77060.746 | P35: -536913.02 | Q35: -630899.59 | R35: -3101835.4
D36: AIGUAVIVA | E36: BESCANÓ | F36: BORDILS | G36: CAMPLLONG | H36: CERVIÀ DE TER | I36: FLAÇÀ | J36: FORNELLS DE LA SELVA | K36: JUIÀ | L36: QUART | N36: SANT GREGORI | O36: SANT JOAN DE MOLLET | P36: SANT JULIÀ DE RAMIS | Q36: SARRIÀ DE TER
A37: PART VARIABLE | B37: TOTAL | C37: La part variable és comuna per a tots els municipis i depen exclusivament de:
C38: El comportament dels habitatges amb la recollida PAP
C39: Ús deixalleria
D46: AIGUAVIVA | E46: BESCANÓ | F46: BORDILS | G46: CAMPLLONG | H46: CERVIÀ DE TER | I46: FLAÇÀ | J46: FORNELLS DE LA SELVA | K46: JUIÀ | L46: QUART | M46: SANT ANDREU SALOU | N46: SANT GREGORI | O46: SANT JOAN DE MOLLET | P46: SANT JULIÀ DE RAMIS | Q46: SARRIÀ DE TER | R46: TOTAL
A47: ESTIMACIÓ PART FIXA DEL MUNICIPI
A48: BALANÇ DOMÈSTIC A TAXA | D48: -5111.7 | E48: -114949.28 | F48: -24012.57 | G48: -11664.729 | H48: -19170.331 | I48: -16227.334 | J48: -30301.301 | K48: -5775.502 | L48: -35764.054 | M48: -2924.876 | N48: -76094.438 | O48: -6436.399 | P48: -61875.479 | Q48: -68525.025 | R48: -478833.02
A49: BALANÇ DOMÈSTIC A PART FIXA (85%) | D49: -4344.945 | E49: -97706.89 | F49: -20410.684 | G49: -9915.0196 | H49: -16294.781 | I49: -13793.234 | J49: -25756.106 | K49: -4909.1767 | L49: -30399.446 | M49: -2486.1446 | N49: -64680.272 | O49: -5470.9392 | P49: -52594.157 | Q49: -58246.272 | R49: -407008.07
A50: Nº HABITATGES | D50: 278 | E50: 2108 | F50: 776 | G50: 203 | H50: 438 | I50: 529 | J50: 1032 | K50: 169 | L50: 1547 | M50: 81 | N50: 1525 | O50: 231 | P50: 1425 | Q50: 2229 | R50: 12768
...

Sheet BALANÇ FINAL set25
E2: DADES ARC 2021
C3: GENERACIÓ PER CÀPITA 2023 (KG/HAB/DIA) | D3: VARIACIÓ GENERACIÓ PER CÀPITA | E3: TOTAL 2021 | F3: POBLACIÓ 2021
C4: =#REF!*1000/#REF!/365 -> #REF! | D4: =(C4-#REF!)/#REF! -> #REF! | E4: 438,36 | F4: 789
C5: =#REF!*1000/#REF!/365 -> #REF! | D5: =(C5-#REF!)/#REF! -> #REF! | E5: 2422.38 | F5: 5094
C6: =#REF!*1000/#REF!/365 -> #REF! | D6: =(C6-#REF!)/#REF! -> #REF! | E6: 727.7 | F6: 1796
C7: =#REF!*1000/#REF!/365 -> #REF! | D7: =(C7-#REF!)/#REF! -> #REF! | E7: 301.98 | F7: 533
C8: =#REF!*1000/#REF!/365 -> #REF! | D8: =(C8-#REF!)/#REF! -> #REF! | E8: 386.59 | F8: 973
C9: =#REF!*1000/#REF!/365 -> #REF! | D9: =(C9-#REF!)/#REF! -> #REF! | E9: 520.98 | F9: 1147
C10: =#REF!*1000/#REF!/365 -> #REF! | D10: =(C10-#REF!)/#REF! -> #REF! | E10: 1179.61 | F10: 2700
C11: =#REF!*1000/#REF!/365 -> #REF! | D11: =(C11-#REF!)/#REF! -> #REF! | E11: 148.98 | F11: 327
C12: =#REF!*1000/#REF!/365 -> #REF! | D12: =(C12-#REF!)/#REF! -> #REF! | E12: 296.18 | F12: 730
C13: =#REF!*1000/#REF!/365 -> #REF! | D13: =(C13-#REF!)/#REF! -> #REF! | E13: 1640.93 | F13: 3856
C14: =#REF!*1000/#REF!/365 -> #REF! | D14: =(C14-#REF!)/#REF! -> #REF! | E14: 1945.21 | F14: 4012
C15: =#REF!*1000/#REF!/365 -> #REF! | D15: =(C15-#REF!)/#REF! -> #REF! | E15: 114.58 | F15: 501
C16: =#REF!*1000/#REF!/365 -> #REF! | D16: =(C16-#REF!)/#REF! -> #REF! | E16: 1785.78 | F16: 3612
C17: =#REF!*1000/#REF!/365 -> #REF! | D17: =(C17-#REF!)/#REF! -> #REF! | E17: 2302.58 | F17: 5231
C18: =#REF!*1000/#REF!/365 -> #REF! | D18: =(C18-#REF!)/#REF! -> #REF! | E18: =SUM(E4:E17) -> 13773.48 | F18: =SUM(F4:F17) -> 31301
A46: BALANÇ FINAL 2026 | C46: TOTAL
A47: DESPESES | B47: COST SERVEI GLOBAL | C47: -2623002.4
B48: COST SERVEI ESPECÍFIC | C48: -478833.02
B49: TOTAL COST SERVEI | C49: -3101835.4
A50: INGRESSOS | B50: RECAPTACIÓ HABITATGES FIXA | C50: 2462586.3
B51: RECAPTACIÓ HABITATGES VARIABLE | C51: 111484.33
B52: RECAPTACIÓ COMERÇOS FIXA | C52: 513222.2
B53: RECAPTACIÓ COMERÇOS VARIABLE | C53: 12635.76
B54: TOTAL INGRESSOS | C54: 3099928.6
A55: TOTAL | B55: TOTAL BALANÇ | C55: -1906.7939

Sheet Extres
A3: Serveis extres a preus unitaris
A5: SERVEI | B5: MUNICIPI | C5: TIPUS | D5: IMPORT ANUAL | E5: IMPORT MENSUAL | F5: UNITATS | G5: IMPORT UNITARI 2026 | H5: IMPORT UNITARI 2025 | I5: IMPORT UNITARI 2025
A6: AT recollida servei ordinari | B6: Flaçà | C6: AMPLIACIÓ PAP | D6: =E6*12 -> 4386.72 | E6: =F6*G6 -> 365.56 | F6: 52 | G6: 7.03
A7: AT neteja servei ordinari | B7: Flaçà | C7: AMPLIACIÓ PAP | D7: =E7*12 -> 2088.24 | E7: =F7*H7 -> 174.02 | F7: 7 | H7: 24.86
A8: Servei recollida abocaments incontrolats | B8: Aiguaviva | C8: SERVEI MUNICIPAL | D8: 0 | E8: =D8/12 -> 0
A9: AT (magatzem brigada) recollida servei ordinari | B9: Bescanó | C9: AMPLIACIÓ PAP | D9: =E9*12 -> 4386.72 | E9: =F9*G9 -> 365.56 | F9: 52 | G9: 7.03
A10: AT (magatzem brigada) neteja servei ordinari | B10: Bescanó | C10: AMPLIACIÓ PAP | D10: =E10*12 -> 2088.24 | E10: =F10*H10 -> 174.02 | F10: 7 | H10: 24.86
A11: Recollida PAP Cases de la Bruguera | B11: Campllong | C11: AMPLIACIÓ PAP | D11: =E11*12 -> 665.664 | E11: =F11*I11 -> 55.472 | F11: 34.67 | I11: 1.6
A12: AT recollida contenidor ENVASOS1100L ruta ordinari | B12: Campllong | C12: AMPLIACIÓ PAP | G12: 7.26
A13: Recollida deixalleria P/V/E/Org./R Salt | B13: Bescanó | C13: SERVEI MUNICIPAL | D13: =E13*12 -> 3380.52 | E13: =F13*G13 -> 281.71 | F13: 21.67 | G13: 13
A14: Recollida Org. Comerç reforç dissabtes | B14: Bescanó | C14: SERVEI MUNICIPAL | D14: =E14*12 -> 5408.52 | E14: =F14*G14 -> 450.71 | F14: 34.67 | G14: 13
A15: AT recollida PiC contenidor 1100L ruta ordinari | B15: Sarrià de Ter | C15: AMPLIACIÓ PAP | D15: =E15*12 -> 365.2788 | E15: =F15*G15 -> 30.4399 | F15: 4.33 | G15: 7.03
A16: AT neteja PiC contenidor 1100L | B16: Sarrià de Ter | C16: AMPLIACIÓ PAP | D16: =E16*12 -> 298.32 | E16: =F16*H16 -> 24.86 | F16: 1 | H16: 24.86
A17: AT recollida E/P/R contenidors 1100L ruta ordinari | B17: Bordils | C17: AMPLIACIÓ PAP | D17: =E17*12 -> 1279.7412 | E17: =F17*G17 -> 106.6451 | F17: 15.17 | G17: 7.03
A18: AT neteja E/P/R contenidors 1100L | B18: Bordils | C18: AMPLIACIÓ PAP | D18: =E18*12 -> 894.96 | E18: =F18*H18 -> 74.58 | F18: 3 | H18: 24.86
A19: Servei recollida abocaments incontrolats | B19: Bescanó | C19: SERVEI MUNICIPAL | D19: 7300 | E19: =D19/12 -> 608.33333 | H19: NO S'IMPUTA A TAXA I ES LIQUIDA COM A NETEJA VIÀRIA
A20: AT Sant Medir recollida RSU/V servei ordinari | B20: Sant Gregori | C20: AMPLIACIÓ PAP | D20: =E20*12 -> 731.4012 | E20: =F20*G20 -> 60.9501 | F20: 8.67 | G20: 7.03
A21: Servei recollida abocaments incontrolats | B21: Bordils | C21: SERVEI MUNICIPAL | D21: 600 | E21: =D21/12 -> 50 | H21: ANY 2025 EREN 300.
A22: Fira de Primavera recollida | B22: Campllong | C22: SERVEI MUNICIPAL | D22: 819 | F22: =23+23+17 -> 63 | G22: 13
A23: AT Sant Medir E/Org/PiC recollida ordinària (preu tancat) | B23: Sant Gregori | C23: AMPLIACIÓ PAP | D23: =E23*12 -> 10831.2 | E23: =G23*F23 -> 902.6 | F23: 10 | G23: 90.26
A24: Servei de recollida de bosses recollida PAP sector cases del xai | B24: Sant Gregori | C24: AMPLIACIÓ PAP | D24: =E24*12 -> 10431.684 | E24: =F24*G24 -> 869.307 | F24: 15.1 | G24: 57.57 | K24: =770.5*12 -> 9246
A25: Servei de recollida de bosses recollida PAP disseminats AF | B25: Bescanó | C25: AMPLIACIÓ PAP | D25: =E25*12 -> 41913.263 | E25: =F25*G25 -> 3492.7719 | F25: 60.67 | G25: 57.57
A26: Servei recollida abocaments incontrolats | B26: Campllong | C26: SERVEI MUNICIPAL | D26: 700 | E26: =D26/12 -> 58.333333
A27: Servei recollida abocaments incontrolats (poda) | B27: Campllong | C27: SERVEI MUNICIPAL | D27: 3000 | E27: =D27/12 -> 250
A28: Servei recollida ordinària Jardí de Calders | B28: Sant Gregori | C28: AMPLIACIÓ PAP | D28: =E28*12 -> 2678.52 | E28: =F28*G28 -> 223.21 | F28: 17.17 | G28: 13
A29: Servei recollida abocaments incontrolats (poda) | B29: Cervià de Ter | C29: SERVEI MUNICIPAL | D29: 13000 | E29: =D29/12 -> 1083.3333
A30: Brigada recollida contenidor RSU 1100L ruta ordinari | B30: Flaçà | C30: SERVEI MUNICIPAL | D30: =E30*12 -> 183.0612 | E30: =F30*G30 -> 15.2551 | F30: 2.17 | G30: 7.03
A31: Brigada recollida contenidor RSU 1100L fora ruta | B31: Flaçà | C31: SERVEI MUNICIPAL | D31: =E31*12 -> 338.52 | E31: =F31*G31 -> 28.21 | F31: 2.17 | G31: 13
A32: Servei recollida abocaments incontrolats (poda) | B32: Flaçà | C32: SERVEI MUNICIPAL | D32: 2000 | E32: =D32/12 -> 166.66667
A33: Rally Costa Brava recollida | B33: Fornells de la Selva | C33: SERVEI MUNICIPAL | D33: 0 | F33: 100 | G33: 13 | H33: NO ES PRESTA
A34: Servei recollida abocaments incontrolats | B34: Fornells de la Selva | C34: SERVEI MUNICIPAL | D34: =1776.65*2 -> 3553.3 | E34: =D34/12 -> 296.10833
A35: Ampliació habitatges PAP | B35: Sant Gregori | C35: AMPLIACIÓ PAP | D35: 3454.36 | E35: =D35/12 -> 287.86333 | F35: =26*3.5*52 -> 4732 | G35: 0.73
A36: Ampliació habitatges PAP | B36: Aiguaviva | C36: AMPLIACIÓ PAP | D36: 832 | E36: =D36/12 -> 69.333333 | F36: =5*2*52 -> 520 | G36: 1.6
A37: Ampliació habitatges PAP | B37: Cervià de Ter | C37: AMPLIACIÓ PAP | D37: 6377.28 | E37: =D37/12 -> 531.44 | F37: =48*3.5*52 -> 8736 | G37: 0.73
A38: Ampliació habitatges PAP | B38: Fornells de la Selva | C38: AMPLIACIÓ PAP | D38: 3188.64 | E38: =D38/12 -> 265.72 | F38: =24*3.5*52 -> 4368 | G38: 0.73
A39: Ampliació habitatges PAP (AF) | B39: Sant Julià de Ramis | C39: AMPLIACIÓ PAP | D39: 1461.46 | E39: =D39/12 -> 121.78833 | F39: =11*3.5*52 -> 2002 | G39: 0.73
A40: Ampliació habitatges PAP (BF) | B40: Sant Julià de Ramis | C40: AMPLIACIÓ PAP | D40: 332.8 | E40: =D40/12 -> 27.733333 | F40: =2*2*52 -> 208 | G40: 1.6
A41: Ampliació habitatges PAP | B41: Quart | C41: AMPLIACIÓ PAP | D41: 15013.18 | E41: =D41/12 -> 1251.0983 | F41: =113*3.5*52 -> 20566 | G41: 0.73
A42: Brigada recollida 1 contenidor RSU 1100L ruta ordinari | B42: Juià | C42: SERVEI MUNICIPAL | D42: =E42*12 -> 183.0612 | E42: =F42*G42 -> 15.2551 | F42: 2.17 | G42: 7.03
A43: Servei recollida abocaments incontrolats | B43: Juià | C43: SERVEI MUNICIPAL | D43: 0 | E43: =D43/12 -> 0
...

Sheet DESPESES SERVEIS
D1: dades pap | O1: =511/365 -> 1.4
D2: actualitzat 2023 extrapolat desembre | E2: actualitzat 2023 extrapolat desembre | F2: actualitzat 2023 extrapolat desembre | G2: actualitzat 2023 extrapolat desembre | H2: pendent | I2: DADES 2022 (NO ESTIMAT) | L2: actualitzat 2023 extrapolat desembre | R2: DADES ARC 2021
C3: ESTIMAT COM SI TOT EL 2022 HAGUÉS ESTAT PAP | D3: FORM | E3: ENVASOS | F3: PiC | G3: VIDRE | H3: PODA | I3: TRASTOS | J3: ROBA | K3: DEIXALLERIA | L3: RESTA | M3: TOTAL | N3: RS | O3: GENERACIÓ PER CÀPITA 2021 (KG/HAB/DIA) | P3: GENERACIÓ PER CÀPITA 2023 (KG/HAB/DIA) | Q3: VARIACIÓ GENERACIÓ PER CÀPITA | R3: TOTAL 2021 | S3: POBLACIÓ 2021 | U3: POBLACIÓ 2022
C4: Aiguaviva | D4: 108.57818 | E4: 37.399636 | F4: 27.588 | G4: 31.001709 | H4: 175 | I4: 11.465 | J4: 4.056 | L4: 52.210909 | M4: =SUM(D4:L4) -> 447.29944 | N4: =SUM(D4:K4)/M4 -> 0.88327526 | O4: =R4*1000/S4/365 -> 1.5221626 | P4: =M4*1000/U4/365 -> 1.5711255 | Q4: =(P4-O4)/O4 -> 0.032166674 | R4: 438,36 | S4: 789 | U4: 780
C5: Bescanó | D5: 512.34873 | E5: 189.86073 | F5: 138.27382 | G5: 119.64644 | H5: 56.948182 | I5: 50.391 | J5: 17.555 | L5: 303.25964 | M5: =SUM(D5:L5) -> 1388.2835 | N5: =SUM(D5:K5)/M5 -> 0.78155785 | O5: =R5*1000/S5/365 -> 1.3028381 | P5: =M5*1000/U5/365 -> 0.73768746 | Q5: =(P5-O5)/O5 -> -0.43378427 | R5: 2422.38 | S5: 5094 | U5: 5156 | X5: FALTEN DADES DE LA RECOLLIDA DE PODA PER PART DE L'AJUNTAMENT
C6: Bordils | D6: 194.64655 | E6: 66.981818 | F6: 40.470545 | G6: 37.256422 | H6: 32.794665 | I6: 33.659 | J6: 5.167 | K6: 164.62 | L6: 48.614182 | M6: =SUM(D6:L6) -> 624.21018 | N6: =SUM(D6:K6)/M6 -> 0.92211889 | O6: =R6*1000/S6/365 -> 1.1100772 | P6: =M6*1000/U6/365 -> 0.9422396 | Q6: =(P6-O6)/O6 -> -0.15119452 | R6: 727.7 | S6: 1796 | U6: 1815
C7: Campllong | D7: 72.370909 | E7: 24.488727 | F7: 18.078545 | G7: 19.444808 | H7: 10.6 | I7: 6.688 | J7: 3.245 | K7: 37.43 | L7: 30.452727 | M7: =SUM(D7:L7) -> 222.79872 | N7: =SUM(D7:K7)/M7 -> 0.86331731 | O7: =R7*1000/S7/365 -> 1.5522373 | P7: =M7*1000/U7/365 -> 1.1409485 | Q7: =(P7-O7)/O7 -> -0.26496515 | R7: 301.98 | S7: 533 | U7: 535
C8: Cervià deTer | D8: 98.091273 | E8: 37.646182 | F8: 24.679636 | G8: 24.338252 | H8: 83.153961 | I8: 8.481 | J8: 2.41236 | K8: 13.95 | L8: 37.186909 | M8: =SUM(D8:L8) -> 329.93957 | N8: =SUM(D8:K8)/M8 -> 0.88729176 | O8: =R8*1000/S8/365 -> 1.0885413 | P8: =M8*1000/U8/365 -> 0.90484888 | Q8: =(P8-O8)/O8 -> -0.16875098 | R8: 386.59 | S8: 973 | U8: 999
C9: Flaçà | D9: 135.03382 | E9: 46.809818 | F9: 28.746545 | G9: 26.277668 | H9: 26.713434 | I9: 9.79 | J9: 3.28277 | K9: 40.45 | L9: 37.896 | M9: =SUM(D9:L9) -> 355.00005 | N9: =SUM(D9:K9)/M9 -> 0.89325072 | O9: =R9*1000/S9/365 -> 1.2444137 | P9: =M9*1000/U9/365 -> 0.86071052 | Q9: =(P9-O9)/O9 -> -0.30834051 | R9: 520.98 | S9: 1147 | U9: 1130
C10: Fornells de la Selva | D10: 267.86291 | E10: 82.666909 | F10: 64.944 | G10: 59.907237 | H10: 51.910341 | I10: 37.427 | J10: 9.77216 | K10: 12.44 | L10: 105.34364 | M10: =SUM(D10:L10) -> 692.27419 | N10: =SUM(D10:K10)/M10 -> 0.84782961 | O10: =R10*1000/S10/365 -> 1.196966 | P10: =M10*1000/U10/365 -> 0.70428579 | Q10: =(P10-O10)/O10 -> -0.41160753 | R10: 1179.61 | S10: 2700 | U10: 2693
C11: Juià | D11: 41.304 | E11: 14.247273 | F11: 8.268 | G11: 7.0116493 | I11: 6.074 | K11: 15.03 | L11: 7.6363636 | M11: =SUM(D11:L11) -> 99.571286 | N11: =SUM(D11:K11)/M11 -> 0.92330757 | O11: =R11*1000/S11/365 -> 1.2482091 | P11: =M11*1000/U11/365 -> 0.81676061 | Q11: =(P11-O11)/O11 -> -0.34565403 | R11: 148.98 | S11: 327 | U11: 334
C12: Llambilles | D12: 66.910909 | E12: 24.190909 | F12: 17.426182 | G12: 13.193481 | H12: =1.72*12 -> 20.64 | I12: 7.848 | J12: 1.12 | K12: 9.56 | L12: 14.527636 | M12: =SUM(D12:L12) -> 175.41712 | N12: =SUM(D12:K12)/M12 -> 0.91718233 | O12: =R12*1000/S12/365 -> 1.1115782 | P12: =M12*1000/U12/365 -> 0.65744848 | Q12: =(P12-O12)/O12 -> -0.40854498 | R12: 296.18 | S12: 730 | U12: 731
C13: Quart | D13: 341.52 | E13: 128.23745 | F13: 78.765818 | G13: 66.518884 | H13: 54.99459 | I13: 50.321 | J13: 18.23695 | K13: 84.23 | L13: 111.65782 | M13: =SUM(D13:L13) -> 934.48252 | N13: =SUM(D13:K13)/M13 -> 0.88051374 | O13: =R13*1000/S13/365 -> 1.1658969 | P13: =M13*1000/U13/365 -> 0.65545982 | Q13: =(P13-O13)/O13 -> -0.43780638 | R13: 1640.93 | S13: 3856 | U13: 3906
C14: Sant Gregori | D14: 380.49818 | E14: 135.97855 | F14: 102.70473 | G14: 99.7333 | H14: 29.37 | J14: 1.311 | K14: 323.94 | L14: 117.31964 | M14: =SUM(D14:L14) -> 1190.8554 | N14: =SUM(D14:K14)/M14 -> 0.90148289 | O14: =R14*1000/S14/365 -> 1.3283506 | P14: =M14*1000/U14/365 -> 0.79868238 | Q14: =(P14-O14)/O14 -> -0.39874127 | R14: 1945.21 | S14: 4012 | U14: 4085
C15: Sant Joan de Mollet | D15: 59.131636 | E15: 20.378182 | F15: 11.827636 | G15: 10.031346 | I15: 7.018 | J15: 0.72176 | K15: 18.57 | L15: 11.098909 | M15: =SUM(D15:L15) -> 138.77747 | N15: =SUM(D15:K15)/M15 -> 0.9200237 | O15: =R15*1000/S15/365 -> 0.62658245 | P15: =M15*1000/U15/365 -> 0.73827621 | Q15: =(P15-O15)/O15 -> 0.17825867 | R15: 114.58 | S15: 501 | U15: 515
C16: Sant Julià de Ramis (inclou medinyà) | D16: 309.93164 | E16: 128.55818 | F16: 86.070545 | G16: 90.691399 | H16: =93.2402896085801+30.3591861164088 -> 123.59948 | I16: =24.8355+8.2785 -> 33.114 | K16: 164.58 | L16: 106.38545 | M16: =SUM(D16:L16) -> 1042.9307 | N16: =SUM(D16:K16)/M16 -> 0.89799374 | O16: =R16*1000/S16/365 -> 1.354526 | P16: =M16*1000/U16/365 -> 0.78866805 | Q16: =(P16-O16)/O16 -> -0.41775348 | R16: 1785.78 | S16: 3612 | U16: 3623
C17: Sarrià deTer | D17: 498.39491 | E17: 192.99927 | F17: 123.56836 | G17: 106.46423 | H17: 45.46866 | J17: 22.764 | K17: 328.02 | L17: 195.81382 | M17: =SUM(D17:L17) -> 1513.4933 | N17: =SUM(D17:K17)/M17 -> 0.87062128 | O17: =R17*1000/S17/365 -> 1.2059718 | P17: =M17*1000/U17/365 -> 0.78325592 | Q17: =(P17-O17)/O17 -> -0.35051886 | R17: 2302.58 | S17: 5231 | U17: 5294
C18: TOTAL | D18: =SUM(D4:D17) -> 3086.6236 | E18: =SUM(E4:E17) -> 1130.4436 | F18: =SUM(F4:F17) -> 771.41236 | G18: =SUM(G4:G17) -> 711.51683 | H18: =SUM(H4:H17) -> 711.19331 | I18: =SUM(I4:I17) -> 262.276 | J18: =SUM(J4:J17) -> 89.644 | K18: =SUM(K4:K17) -> 1212.82 | ... M18: =SUM(M4:M17) -> 9155.3334 | N18: =SUM(D18:K18)/M18 -> 0.87117852 | O18: =R18*1000/S18/365 -> 1.2055705 | P18: =M18*1000/U18/365 -> 0.79386964 | Q18: =(P18-O18)/O18 -> -0.34149877 | R18: =SUM(R4:R17) -> 13773.48 | S18: =SUM(S4:S17) -> 31301 | U18: =SUM(U4:U17) -> 31596
D19: =D18/$M$18 -> 0.3371394 | E19: =E18/$M$18 -> 0.12347378 | F19: =F18/$M$18 -> 0.084258249 | G19: =G18/$M$18 -> 0.077716102 | H19: =H18/$M$18 -> 0.077680766 | I19: =I18/$M$18 -> 0.028647346 | J19: =J18/$M$18 -> 0.0097914512 | K19: =K18/$M$18 -> 0.13247142 | L19: =L18/$M$18 -> 0.12882148 | M19: =SUM(D19:L19) -> 1
C22: COST TRACTAMENT FORM 2023 (no es coneixen tarifes 2024) | D22: 92.29
C23: IMPROPIS FORM | D23: <5
G26: he suposat que aquestes quantitats tenen iva i li trec, sobre les despeses del CC no he tret res
D27: COST SERVEI | E27: DESPESES CONSELL | F27: TRACTAMENT FORM | G27: INGRÉS VIDRE | H27: INGRÉS PC ECOEMBES | I27: INGRÉS ENVASOS ECOEMBES | J27: RETORN CÀNON FORM RECOLLIDA | L27: estimació tract voluminosos (amb tones 22 i preus 24)
C28: Aiguaviva | D28: =-'import de licitació'!J2-(-'import de licitació'!J2*0.1%) -> -56115.335 | E28: =D28*0.0318 -> -1784.4676 | F28: =-D4*$D$22 -> -10020.68 | G28: 2233.3921 | H28: 1296.45 | I28: 12765.435 | J28: 6406.3936 | K28: =J28+#REF! -> #REF! | L28: 719.12797 | M28: Aiguaviva
C29: Bescanó | D29: =-'import de licitació'!J3-(-'import de licitació'!J3*0.1%) -> -398108.84 | E29: =D29*0.0318 -> -12659.861 | F29: =-D5*$D$22 -> -47284.664 | G29: 6917.0806 | H29: 6591.8 | I29: 59654.765 | J29: 26572.141 | K29: =J29+#REF! -> #REF! | L29: 3501.9527 | M29: Bescanó
C30: Bordils | D30: =-'import de licitació'!J4-(-'import de licitació'!J4*0.1%) -> -147884.16 | E30: =D30*0.0318 -> -4702.7164 | F30: =-D6*$D$22 -> -17963.93 | G30: 2692.6233 | H30: 1899.6802 | I30: 22942.754 | J30: 11507.243 | K30: =J30+#REF! -> #REF! | L30: 2127.0494 | M30: Bordils
C31: Campllong | D31: =-'import de licitació'!J5-(-'import de licitació'!J5*0.1%) -> -38424.019 | E31: =D31*0.0318 -> -1221.8838 | F31: =-D7*$D$22 -> -6679.1112 | G31: 1401.7061 | H31: 849.32586 | I31: 8375.1217 | J31: 4269.9549 | K31: =J31+#REF! -> #REF! | L31: 544.37616 | M31: Campllong
C32: Cervià deTer | D32: =-'import de licitació'!J6-(-'import de licitació'!J6*0.1%) -> -84344.212 | E32: =D32*0.0318 -> -2682.1459 | F32: =-D8*$D$22 -> -9052.8436 | G32: 1754.9174 | H32: 1161.6677 | I32: 12863.192 | J32: 5787.6062 | K32: =J32+#REF! -> #REF! | L32: 559.19344 | M32: Cervià deTer
C33: Flaçà | D33: =-'import de licitació'!J7-(-'import de licitació'!J7*0.1%) -> -110772.84 | E33: =D33*0.0318 -> -3522.5762 | F33: =-D9*$D$22 -> -12462.271 | G33: 1898.6973 | H33: 1349.5698 | I33: 16032.852 | J33: 7980.2742 | K33: =J33+#REF! -> #REF! | L33: 617.97533 | M33: Flaçà
C34: Fornells de la Selva | D34: =-'import de licitació'!J8-(-'import de licitació'!J8*0.1%) -> -169115.18 | E34: =D34*0.0318 -> -5377.8626 | F34: =-D10*$D$22 -> -24721.068 | G34: 4323.2631 | H34: 3061.8392 | I34: 28308.679 | J34: 15773.76 | K34: =J34+#REF! -> #REF! | L34: 2696.8513 | M34: Fornells de la Selva
C35: Juià | D35: =-'import de licitació'!J9-(-'import de licitació'!J9*0.1%) -> -29490.896 | E35: =D35*0.0318 -> -937.81051 | F35: =-D11*$D$22 -> -3811.9462 | G35: 507.51475 | H35: 387.94065 | I35: 4879.9486 | J35: 2441.7738 | K35: =J35+#REF! -> #REF! | L35: 414.34703 | M35: Juià
C36: Llambilles | D36: =-'import de licitació'!J10-(-'import de licitació'!J10*0.1%) -> -59458.733 | E36: =D36*0.0318 -> -1890.7877 | F36: =-D12*$D$22 -> -6175.2078 | G36: 957.18624 | H36: 819.89611 | I36: 8285.6999 | J36: 3950.3466 | K36: =J36+#REF! -> #REF! | L36: 508.1316 | M36: Llambilles
C37: Quart | D37: =-'import de licitació'!J11-(-'import de licitació'!J11*0.1%) -> -273510.16 | E37: =D37*0.0318 -> -8697.6231 | F37: =-D13*$D$22 -> -31518.881 | G37: 4819.3203 | H37: 3703.5035 | I37: 43922.918 | J37: 20146.403 | K37: =J37+#REF! -> #REF! | L37: 3473.8779 | M37: Quart
C38: Sant Gregori | D38: =-'import de licitació'!J12-(-'import de licitació'!J12*0.1%) -> -299971.56 | E38: =D38*0.0318 -> -9539.0957 | F38: =-D14*$D$22 -> -35116.177 | G38: 7222.4203 | H38: 4824.3285 | I38: 46515.878 | J38: 22503.022 | K38: =J38+#REF! -> #REF! | M38: Sant Gregori
C39: Sant Joan de Mollet | D39: =-'import de licitació'!J13-(-'import de licitació'!J13*0.1%) -> -54242.156 | E39: =D39*0.0318 -> -1724.9006 | F39: =-D15*$D$22 -> -5457.2587 | G39: 725.87928 | H39: 554.97196 | I39: 6979.9421 | J39: 3495.6745 | K39: =J39+#REF! -> #REF! | L39: 487.9131 | M39: Sant Joan de Mollet
C40: Sant Julià de Ramis | D40: =-'import de licitació'!J14-(-'import de licitació'!J14*0.1%) -> -371878.11 | E40: =D40*0.0318 -> -11825.724 | F40: =-D16*$D$22 -> -28603.591 | G40: 6544.3824 | H40: 4042.8944 | I40: 43974.572 | J40: 18291.851 | K40: =J40+#REF! -> #REF! | L40: 2226.2244 | M40: Sant Julià de Ramis
C41: Sarrià deTer | D41: =-'import de licitació'!J15-(-'import de licitació'!J15*0.1%) -> -421343.88 | E41: =D41*0.0318 -> -13398.736 | F41: =-D17*$D$22 -> -45996.866 | G41: 6148.9604 | H41: 5887.4421 | I41: 60513.504 | J41: 25841.941 | K41: =J41+#REF! -> #REF! | M41: Sarrià deTer
D42: =SUM(D28:D41) -> -2514660.1 | E42: =D42*0.0312 -> -78457.395 | F42: =SUM(F28:F41) -> -284864.5
C45: Retorn del cànon de la poda? Qui el cobra? no tinc dades
A46: ESTIMACIÓ DESPESES 2024 | C46: AIGUAVIVA | D46: BESCANÓ | E46: BORDILS | F46: CAMPLLONG | G46: CERVIÀ DE TER | H46: FLAÇÀ | I46: FORNELLS DE LA SELVA | J46: JUIÀ | K46: QUART | L46: SANT GREGORI | M46: SANT JOAN DE MOLLET | N46: SANT JULIÀ DE RAMIS | O46: SARRIÀ DE TER | P46: TOTAL | V46: HABITATGES PAP AF | W46: HABITATGES PAP BF | X46: HABITATGES AT | Y46: HABITATGES DONATS D'ALTA
...

Sheet PART FIXA DOM.
A2: HABITATGES PAP (AF i BF)
A4: Recaptació part fixa domèstica | B4: Aiguaviva | C4: Bescanó | D4: Bordils | E4: Campllong | F4: Cervià de Ter | G4: Flaçà | H4: Fornells de la Selva
A5: Nº habitatges PAP | B5: ='RECAPTACIÓ HABITATGES'!D18 -> 220 | C5: ='RECAPTACIÓ HABITATGES'!E18 -> 1973 | D5: ='RECAPTACIÓ HABITATGES'!F18 -> 718 | E5: ='RECAPTACIÓ HABITATGES'!G18 -> 150 | F5: ='RECAPTACIÓ HABITATGES'!H18 -> 404 | G5: ='RECAPTACIÓ HABITATGES'!I18 -> 508 | H5: ='RECAPTACIÓ HABITATGES'!J18 -> 955
A6: Nº habitatges quota reduïda (2%) | B6: ='RECAPTACIÓ HABITATGES'!D20 -> 4.4 | C6: ='RECAPTACIÓ HABITATGES'!E20 -> 39.46 | D6: ='RECAPTACIÓ HABITATGES'!F20 -> 14.36 | E6: ='RECAPTACIÓ HABITATGES'!G20 -> 3 | F6: ='RECAPTACIÓ HABITATGES'!H20 -> 8.08 | G6: ='RECAPTACIÓ HABITATGES'!I20 -> 10.16 | H6: ='RECAPTACIÓ HABITATGES'!J20 -> 19.1
A7: Part fixa (global + específica) | B7: ='RECAPTACIÓ HABITATGES'!D23 -> 182.6293 | C7: ='RECAPTACIÓ HABITATGES'!E23 -> 213.35052 | D7: ='RECAPTACIÓ HABITATGES'!F23 -> 193.30243 | E7: ='RECAPTACIÓ HABITATGES'!G23 -> 215.84246 | F7: ='RECAPTACIÓ HABITATGES'!H23 -> 204.2027 | G7: ='RECAPTACIÓ HABITATGES'!I23 -> 193.07417 | H7: ='RECAPTACIÓ HABITATGES'!J23 -> 191.95747
A8: Reducció quota | B8: ='RECAPTACIÓ HABITATGES'!D24 -> 54.78879 | C8: ='RECAPTACIÓ HABITATGES'!E24 -> 64.005155 | D8: ='RECAPTACIÓ HABITATGES'!F24 -> 57.990729 | E8: ='RECAPTACIÓ HABITATGES'!G24 -> 64.752738 | F8: ='RECAPTACIÓ HABITATGES'!H24 -> 61.260809 | G8: ='RECAPTACIÓ HABITATGES'!I24 -> 57.92225 | H8: ='RECAPTACIÓ HABITATGES'!J24 -> 57.58724
A9: Total recaptat amb reducció | B9: ='RECAPTACIÓ HABITATGES'!D25 -> 39937.375 | C9: ='RECAPTACIÓ HABITATGES'!E25 -> 418414.93 | D9: ='RECAPTACIÓ HABITATGES'!F25 -> 137958.4 | E9: ='RECAPTACIÓ HABITATGES'!G25 -> 32182.111 | F9: ='RECAPTACIÓ HABITATGES'!H25 -> 82002.902 | G9: ='RECAPTACIÓ HABITATGES'!I25 -> 97493.186 | H9: ='RECAPTACIÓ HABITATGES'!J25 -> 182219.46
A10: Recaptació part fixa domèstica | B10: Juià | C10: Quart | D10: Sant Gregori | E10: Sant Joan de Mollet | F10: Sant Julià de Ramis | G10: Sarrià de Ter | H10: TOTAL
A11: Nº habitatges PAP | B11: ='RECAPTACIÓ HABITATGES'!K18 -> 153 | C11: ='RECAPTACIÓ HABITATGES'!L18 -> 1483 | D11: ='RECAPTACIÓ HABITATGES'!N18 -> 1294 | E11: ='RECAPTACIÓ HABITATGES'!O18 -> 230 | F11: ='RECAPTACIÓ HABITATGES'!P18 -> 1338 | G11: ='RECAPTACIÓ HABITATGES'!Q18 -> 2194 | H11: ='RECAPTACIÓ HABITATGES'!R18 -> 11701
A12: Nº habitatges quota reduïda (2%) | B12: ='RECAPTACIÓ HABITATGES'!K20 -> 3.06 | C12: ='RECAPTACIÓ HABITATGES'!L20 -> 29.66 | D12: ='RECAPTACIÓ HABITATGES'!N20 -> 25.88 | E12: ='RECAPTACIÓ HABITATGES'!O20 -> 4.6 | F12: ='RECAPTACIÓ HABITATGES'!P20 -> 26.76 | G12: ='RECAPTACIÓ HABITATGES'!Q20 -> 43.88 | H12: ='RECAPTACIÓ HABITATGES'!R20 -> 234.02
A13: Part fixa (global + específica) | B13: ='RECAPTACIÓ HABITATGES'!K23 -> 196.04838 | C13: ='RECAPTACIÓ HABITATGES'!L23 -> 186.65058 | D13: ='RECAPTACIÓ HABITATGES'!N23 -> 209.41329 | E13: ='RECAPTACIÓ HABITATGES'!O23 -> 190.68372 | F13: ='RECAPTACIÓ HABITATGES'!P23 -> 203.90818 | G13: ='RECAPTACIÓ HABITATGES'!Q23 -> 193.13112
A14: Reducció quota | B14: ='RECAPTACIÓ HABITATGES'!K24 -> 58.814515 | C14: ='RECAPTACIÓ HABITATGES'!L24 -> 55.995174 | D14: ='RECAPTACIÓ HABITATGES'!N24 -> 62.823988 | E14: ='RECAPTACIÓ HABITATGES'!O24 -> 57.205116 | F14: ='RECAPTACIÓ HABITATGES'!P24 -> 61.172454 | G14: ='RECAPTACIÓ HABITATGES'!Q24 -> 57.939337
A15: Total recaptat amb reducció | B15: ='RECAPTACIÓ HABITATGES'!K25 -> 29815.43 | C15: ='RECAPTACIÓ HABITATGES'!L25 -> 275141.99 | D15: ='RECAPTACIÓ HABITATGES'!N25 -> 269354.92 | E15: ='RECAPTACIÓ HABITATGES'!O25 -> 43594.112 | F15: ='RECAPTACIÓ HABITATGES'!P25 -> 271192.17 | G15: ='RECAPTACIÓ HABITATGES'!Q25 -> 421187.3 | H15: ='RECAPTACIÓ HABITATGES'!R25 -> 2316411.4
A18: HABITATGES AT
A20: Recaptació part fixa domèstica | B20: Aiguaviva | C20: Bescanó | D20: Bordils | E20: Campllong | F20: Cervià de Ter | G20: Flaçà | H20: Fornells de la Selva
A21: Nº habitatges AT | B21: ='RECAPTACIÓ HABITATGES'!D19 -> 64 | C21: ='RECAPTACIÓ HABITATGES'!E19 -> 157 | D21: ='RECAPTACIÓ HABITATGES'!F19 -> 71 | E21: ='RECAPTACIÓ HABITATGES'!G19 -> 50 | F21: ='RECAPTACIÓ HABITATGES'!H19 -> 28 | G21: ='RECAPTACIÓ HABITATGES'!I19 -> 19 | H21: ='RECAPTACIÓ HABITATGES'!J19 -> 97
A22: Nº habitatges quota reduïda (2%) | B22: ='RECAPTACIÓ HABITATGES'!D21 -> 1.28 | C22: ='RECAPTACIÓ HABITATGES'!E21 -> 3.14 | D22: ='RECAPTACIÓ HABITATGES'!F21 -> 1.42 | E22: ='RECAPTACIÓ HABITATGES'!G21 -> 1 | F22: ='RECAPTACIÓ HABITATGES'!H21 -> 0.56 | G22: ='RECAPTACIÓ HABITATGES'!I21 -> 0.38 | H22: ='RECAPTACIÓ HABITATGES'!J21 -> 1.94
A23: Part fixa (global + específica) | B23: ='RECAPTACIÓ HABITATGES'!D27 -> 135.6293 | C23: ='RECAPTACIÓ HABITATGES'!E27 -> 166.35052 | D23: ='RECAPTACIÓ HABITATGES'!F27 -> 146.30243 | E23: ='RECAPTACIÓ HABITATGES'!G27 -> 168.84246 | F23: ='RECAPTACIÓ HABITATGES'!H27 -> 157.2027 | G23: ='RECAPTACIÓ HABITATGES'!I27 -> 146.07417 | H23: ='RECAPTACIÓ HABITATGES'!J27 -> 144.95747
A24: Reducció quota | B24: ='RECAPTACIÓ HABITATGES'!D28 -> 40.68879 | C24: ='RECAPTACIÓ HABITATGES'!E28 -> 49.905155 | D24: ='RECAPTACIÓ HABITATGES'!F28 -> 43.890729 | E24: ='RECAPTACIÓ HABITATGES'!G28 -> 50.652738 | F24: ='RECAPTACIÓ HABITATGES'!H28 -> 47.160809 | G24: ='RECAPTACIÓ HABITATGES'!I28 -> 43.82225 | H24: ='RECAPTACIÓ HABITATGES'!J28 -> 43.48724
A25: Total recaptat amb reducció | B25: ='RECAPTACIÓ HABITATGES'!D29 -> 8628.1935 | C25: ='RECAPTACIÓ HABITATGES'!E29 -> 25960.329 | D25: ='RECAPTACIÓ HABITATGES'!F29 -> 10325.148 | E25: ='RECAPTACIÓ HABITATGES'!G29 -> 8391.4703 | F25: ='RECAPTACIÓ HABITATGES'!H29 -> 4375.2654 | G25: ='RECAPTACIÓ HABITATGES'!I29 -> 2758.7567 | H25: ='RECAPTACIÓ HABITATGES'!J29 -> 13976.509
A26: Recaptació part fixa domèstica | B26: Juià | C26: Quart | D26: Sant Gregori | E26: Sant Joan de Mollet | F26: Sant Julià de Ramis | G26: Sarrià de Ter | H26: TOTAL
A27: Nº habitatges AT | B27: ='RECAPTACIÓ HABITATGES'!K19 -> 0 | C27: ='RECAPTACIÓ HABITATGES'!L19 -> 96 | D27: ='RECAPTACIÓ HABITATGES'!N19 -> 269 | E27: ='RECAPTACIÓ HABITATGES'!O19 -> 0 | F27: ='RECAPTACIÓ HABITATGES'!P19 -> 72 | G27: ='RECAPTACIÓ HABITATGES'!Q19 -> 26 | H27: ='RECAPTACIÓ HABITATGES'!R19 -> 949
A28: Nº habitatges quota reduïda (2%) | B28: ='RECAPTACIÓ HABITATGES'!K21 -> 0 | C28: ='RECAPTACIÓ HABITATGES'!L21 -> 1.92 | D28: ='RECAPTACIÓ HABITATGES'!N21 -> 5.38 | E28: ='RECAPTACIÓ HABITATGES'!O21 -> 0 | F28: ='RECAPTACIÓ HABITATGES'!P21 -> 1.44 | G28: ='RECAPTACIÓ HABITATGES'!Q21 -> 0.52 | H28: ='RECAPTACIÓ HABITATGES'!R21 -> 18.98
A29: Part fixa (global + específica) | B29: ='RECAPTACIÓ HABITATGES'!K27 -> 149.04838 | C29: ='RECAPTACIÓ HABITATGES'!L27 -> 139.65058 | D29: ='RECAPTACIÓ HABITATGES'!N27 -> 162.41329 | E29: ='RECAPTACIÓ HABITATGES'!O27 -> 143.68372 | F29: ='RECAPTACIÓ HABITATGES'!P27 -> 156.90818 | G29: ='RECAPTACIÓ HABITATGES'!Q27 -> 146.13112
A30: Reducció quota | B30: ='RECAPTACIÓ HABITATGES'!K28 -> 44.714515 | C30: ='RECAPTACIÓ HABITATGES'!L28 -> 41.895174 | D30: ='RECAPTACIÓ HABITATGES'!N28 -> 48.723988 | E30: ='RECAPTACIÓ HABITATGES'!O28 -> 43.105116 | F30: ='RECAPTACIÓ HABITATGES'!P28 -> 47.072454 | G30: ='RECAPTACIÓ HABITATGES'!Q28 -> 43.839337
A31: Total recaptat amb reducció | B31: ='RECAPTACIÓ HABITATGES'!K29 -> 0 | C31: ='RECAPTACIÓ HABITATGES'!L29 -> 13326.017 | D31: ='RECAPTACIÓ HABITATGES'!N29 -> 43427.041 | E31: ='RECAPTACIÓ HABITATGES'!O29 -> 0 | F31: ='RECAPTACIÓ HABITATGES'!P29 -> 11229.605 | G31: ='RECAPTACIÓ HABITATGES'!Q29 -> 3776.6127 | H31: ='RECAPTACIÓ HABITATGES'!R29 -> 146174.95
A34: TOTAL RECAPTACIÓ PAP + AT
A36: Recaptació part fixa domèstica | B36: Aiguaviva | C36: Bescanó | D36: Bordils | E36: Campllong | F36: Cervià de Ter | G36: Flaçà | H36: Fornells de la Selva
A37: Total recaptat PAP (amb reducció) | B37: =B9 -> 39937.375 | C37: =C9 -> 418414.93 | D37: =D9 -> 137958.4 | E37: =E9 -> 32182.111 | F37: =F9 -> 82002.902 | G37: =G9 -> 97493.186 | H37: =H9 -> 182219.46
A38: Total recaptat AT (amb reducció) | B38: =B25 -> 8628.1935 | C38: =C25 -> 25960.329 | D38: =D25 -> 10325.148 | E38: =E25 -> 8391.4703 | F38: =F25 -> 4375.2654 | G38: =G25 -> 2758.7567 | H38: =H25 -> 13976.509
A39: Total recaptat amb reducció | B39: =SUM(B37:B38) -> 48565.568 | C39: 441953.28 | D39: =SUM(D37:D38) -> 148283.54 | E39: =SUM(E37:E38) -> 40573.581 | F39: =SUM(F37:F38) -> 86378.167 | G39: =SUM(G37:G38) -> 100251.94 | H39: =SUM(H37:H38) -> 196195.97
A40: Recaptació part fixa domèstica | B40: Juià | C40: Quart | D40: Sant Gregori | E40: Sant Joan de Mollet | F40: Sant Julià de Ramis | G40: Sarrià de Ter | H40: TOTAL
A41: Total recaptat PAP (amb reducció) | B41: =B15 -> 29815.43 | C41: =C15 -> 275141.99 | D41: =D15 -> 269354.92 | E41: =E15 -> 43594.112 | F41: =F15 -> 271192.17 | G41: =G15 -> 421187.3 | H41: =H15 -> 2316411.4
A42: Total recaptat AT (amb reducció) | B42: =B31 -> 0 | C42: =C31 -> 13326.017 | D42: =D31 -> 43427.041 | E42: =E31 -> 0 | F42: =F31 -> 11229.605 | G42: =G31 -> 3776.6127 | H42: =H31 -> 146174.95
A43: Total recaptat amb reducció | B43: =SUM(B41:B42) -> 29815.43 | C43: =SUM(C41:C42) -> 288468.01 | D43: =SUM(D41:D42) -> 312781.96 | E43: =SUM(E41:E42) -> 43594.112 | F43: =SUM(F41:F42) -> 282421.78 | G43: =SUM(G41:G42) -> 424963.92 | H43: =H41+H42 -> 2462586.3

Sheet PART VARIABLE DOM.
G1: TRAMS PART VARIABLE DOMÈSTICA
A2: Recaptació part variable domèstica
A3: Tram participació orgànica | B3: Estimació participació | C3: Nº habitatges | D3: Import tram | E3: Recaptació
A4: Molt baixa | B4: ='RECAPTACIÓ HABITATGES'!B52 -> 0.065 | C4: ='RECAPTACIÓ HABITATGES'!C52 -> 760.565 | D4: ='RECAPTACIÓ HABITATGES'!D52 -> 35 | E4: ='RECAPTACIÓ HABITATGES'!E52 -> 26619.775 | I4: Recaptació màxima | J4: Recaptació alta | K4: Recaptació mitjana | L4: Recaptació baixa
A5: Baixa | B5: ='RECAPTACIÓ HABITATGES'!B53 -> 0 | C5: ='RECAPTACIÓ HABITATGES'!C53 -> 0 | D5: ='RECAPTACIÓ HABITATGES'!D53 -> 25 | E5: ='RECAPTACIÓ HABITATGES'!E53 -> 0 | H5: Nº aportacions anuals alta freqüència | I5: Tram participació molt baixa | J5: Tram participació baixa | K5: Tram participació mitjana | L5: Tram participació òptima
A6: Mitjana | B6: ='RECAPTACIÓ HABITATGES'!B54 -> 0 | C6: ='RECAPTACIÓ HABITATGES'!C54 -> 0 | D6: ='RECAPTACIÓ HABITATGES'!D54 -> 10 | E6: ='RECAPTACIÓ HABITATGES'!E54 -> 0 | G6: Fracció orgànica | H6: 156 | I6: < 6 | J6: 6 - 20 | K6: 21 – 46 | L6: > 46
A7: Òptima | B7: ='RECAPTACIÓ HABITATGES'!B55 -> 0.935 | C7: ='RECAPTACIÓ HABITATGES'!C55 -> 10940.435 | D7: ='RECAPTACIÓ HABITATGES'!D55 -> 0 | E7: ='RECAPTACIÓ HABITATGES'!E55 -> 0 | I7: 35 | J7: 25 | K7: 10 | L7: 0
A8: Total recaptació orgànica | E8: =SUM(E4:E7) -> 26619.775 | G8: Envasos lleugers | H8: 104 | I8: < 3 | J8: 3 - 9 | K8: > 70 | L8: 10 - 70
A9: Tram participació envasos lleugers | B9: Estimació participació | C9: Nº habitatges | D9: Import tram | E9: Recaptació | I9: 20 | J9: 15 | K9: 5 | L9: 0
A10: Molt baixa | B10: ='RECAPTACIÓ HABITATGES'!B57 -> 0.065 | C10: ='RECAPTACIÓ HABITATGES'!C57 -> 760.565 | D10: ='RECAPTACIÓ HABITATGES'!D57 -> 20 | E10: ='RECAPTACIÓ HABITATGES'!E57 -> 15211.3 | G10: Resta | H10: 26 | I10: < 3 | J10: 3 - 5 | L10: 6 - 26
A11: Baixa | B11: ='RECAPTACIÓ HABITATGES'!B58 -> 0 | C11: ='RECAPTACIÓ HABITATGES'!C58 -> 0 | D11: ='RECAPTACIÓ HABITATGES'!D58 -> 15 | E11: ='RECAPTACIÓ HABITATGES'!E58 -> 0 | I11: 50 | J11: 20 | L11: 0
A12: Mitjana | B12: ='RECAPTACIÓ HABITATGES'!B59 -> 0 | C12: ='RECAPTACIÓ HABITATGES'!C59 -> 0 | D12: ='RECAPTACIÓ HABITATGES'!D59 -> 5 | E12: ='RECAPTACIÓ HABITATGES'!E59 -> 0 | G12: Deixalleria | I12: 0 | L12: >= 1
A13: Òptima | B13: ='RECAPTACIÓ HABITATGES'!B60 -> 0.935 | C13: ='RECAPTACIÓ HABITATGES'!C60 -> 10940.435 | D13: ='RECAPTACIÓ HABITATGES'!D60 -> 0 | E13: ='RECAPTACIÓ HABITATGES'!E60 -> 0 | I13: 10 | L13: 0
A14: Total recaptació envasos lleugers | E14: =SUM(E10:E13) -> 15211.3 | G14: PART VARIABLE | I14: 115 | J14: 70 | K14: 45 | L14: 0
A15: Tram participació fracció resta | B15: Estimació participació | C15: Nº habitatges | D15: Import tram | E15: Recaptació
A16: Baixa | B16: ='RECAPTACIÓ HABITATGES'!B62 -> 0.065 | C16: ='RECAPTACIÓ HABITATGES'!C62 -> 760.565 | D16: ='RECAPTACIÓ HABITATGES'!D62 -> 50 | E16: ='RECAPTACIÓ HABITATGES'!E62 -> 38028.25
A17: Mitjana | B17: ='RECAPTACIÓ HABITATGES'!B63 -> 0 | C17: ='RECAPTACIÓ HABITATGES'!C63 -> 0 | D17: ='RECAPTACIÓ HABITATGES'!D63 -> 20 | E17: ='RECAPTACIÓ HABITATGES'!E63 -> 0 | H17: Nº aportacions anuals baixa freqüència | I17: Tram participació molt baixa | J17: Tram participació baixa | K17: Tram participació mitjana | L17: Tram participació òptima
A18: Òptima | B18: ='RECAPTACIÓ HABITATGES'!B64 -> 0.935 | C18: ='RECAPTACIÓ HABITATGES'!C64 -> 10940.435 | D18: ='RECAPTACIÓ HABITATGES'!D64 -> 0 | E18: ='RECAPTACIÓ HABITATGES'!E64 -> 0 | G18: Fracció orgànica | H18: 104 | I18: < 6 | J18: 6 - 20 | K18: 21 - 46 | L18: >46
A19: Total recaptació fracció resta | E19: =SUM(E16:E18) -> 38028.25 | I19: 35 | J19: 25 | K19: 10 | L19: 0
A20: Participació deixalleria | B20: Estimació participació | C20: Nº habitatges | D20: Import tram | E20: Recaptació | G20: Envasos lleugers | H20: 52 | I20: < 3 | J20: 3 - 9 | K20: > 46 | L20: 10 - 46
A21: Baixa | B21: ='RECAPTACIÓ HABITATGES'!B66 -> 0.25 | C21: ='RECAPTACIÓ HABITATGES'!C66 -> 3162.5 | D21: ='RECAPTACIÓ HABITATGES'!D66 -> 10 | E21: ='RECAPTACIÓ HABITATGES'!E66 -> 31625 | I21: 20 | J21: 15 | K21: 5 | L21: 0
A22: Òptima | B22: ='RECAPTACIÓ HABITATGES'!B67 -> 0.75 | C22: ='RECAPTACIÓ HABITATGES'!C67 -> 9487.5 | D22: ='RECAPTACIÓ HABITATGES'!D67 -> 0 | E22: ='RECAPTACIÓ HABITATGES'!E67 -> 0 | G22: Resta | H22: 12 | I22: < 3 | J22: 3 - 5 | L22: 6 - 12
A23: Total recaptació deixalleria | E23: =SUM(E21:E22) -> 31625 | I23: 50 | J23: 20 | L23: 0
A24: Total recaptació part variable domèstica | E24: =SUM(E8,E14,E19,E23) -> 111484.33 | G24: Deixalleria | I24: 0 | L24: >=1
I25: 10 | L25: 0
G26: PART VARIABLE | I26: 115 | J26: 70 | K26: 45 | L26: 0
A28: Total recaptació part fixa domèstica | B28: ='PART FIXA DOM.'!H43 -> 2462586.3
A29: Total recaptació part variable domèstica | B29: =E24 -> 111484.33
A30: TOTAL RECAPTACIÓ DOMÈSTICA | B30: =B28+B29 -> 2574070.6

Sheet Part fixa+específica
C2: PAP
D4: PART FIXA
D5: PART GLOBAL | E5: PART ESPECÍFICA | F5: TOTAL
C6: Municipi | D6: €/habitatge | E6: €/habitatge | F6: €/habitatge
C7: Aiguaviva | D7: =-#REF! -> #REF! | E7: =-#REF! -> #REF! | F7: =D7+E7 -> #REF!
C8: Bescanó | D8: =-#REF! -> #REF! | E8: =-#REF! -> #REF! | F8: =D8+E8 -> #REF!
C9: Bordils | D9: =-#REF! -> #REF! | E9: =-#REF! -> #REF! | F9: =D9+E9 -> #REF!
C10: Campllong | D10: =-#REF! -> #REF! | E10: =-#REF! -> #REF! | F10: =D10+E10 -> #REF!
C11: Cervià de Ter | D11: =-#REF! -> #REF! | E11: =-#REF! -> #REF! | F11: =D11+E11 -> #REF!
C12: Flaçà | D12: =-#REF! -> #REF! | E12: =-#REF! -> #REF! | F12: =D12+E12 -> #REF!
C13: Fornells de la Selva | D13: =-#REF! -> #REF! | E13: =-#REF! -> #REF! | F13: =D13+E13 -> #REF!
C14: Juià | D14: =-#REF! -> #REF! | E14: =-#REF! -> #REF! | F14: =D14+E14 -> #REF!
C15: Quart | D15: =-#REF! -> #REF! | E15: =-#REF! -> #REF! | F15: =D15+E15 -> #REF!
C16: Sant Gregori | D16: =-#REF! -> #REF! | E16: =-#REF! -> #REF! | F16: =D16+E16 -> #REF!
C17: Sant Joan de Mollet | D17: =-#REF! -> #REF! | E17: =-#REF! -> #REF! | F17: =D17+E17 -> #REF!
C18: Sant Julià de Ramis-Medinyà | D18: =-#REF! -> #REF! | E18: =-#REF! -> #REF! | F18: =D18+E18 -> #REF!
C19: Sarrià de Ter | D19: =-#REF! -> #REF! | E19: =-#REF! -> #REF! | F19: =D19+E19 -> #REF!
C25: AT
D27: PART FIXA
D28: PART GLOBAL | E28: PART ESPECÍFICA | F28: TOTAL
C29: Municipi | D29: €/habitatge | E29: €/habitatge | F29: €/habitatge
C30: Aiguaviva | D30: 120 | E30: =-#REF! -> #REF! | F30: =D30+E30 -> #REF!
C31: Bescanó | D31: 120 | E31: =-#REF! -> #REF! | F31: =D31+E31 -> #REF!
C32: Bordils | D32: 120 | E32: =-#REF! -> #REF! | F32: =D32+E32 -> #REF!
C33: Campllong | D33: 120 | E33: =-#REF! -> #REF! | F33: =D33+E33 -> #REF!
C34: Cervià de Ter | D34: 120 | E34: =-#REF! -> #REF! | F34: =D34+E34 -> #REF!
C35: Flaçà | D35: 120 | E35: =-#REF! -> #REF! | F35: =D35+E35 -> #REF!
C36: Fornells de la Selva | D36: 120 | E36: =-#REF! -> #REF! | F36: =D36+E36 -> #REF!
C37: Juià | D37: 120 | E37: =-#REF! -> #REF! | F37: =D37+E37 -> #REF!
C38: Quart | D38: 120 | E38: =-#REF! -> #REF! | F38: =D38+E38 -> #REF!
C39: Sant Gregori | D39: 120 | E39: =-#REF! -> #REF! | F39: =D39+E39 -> #REF!
C40: Sant Joan de Mollet | D40: 120 | E40: =-#REF! -> #REF! | F40: =D40+E40 -> #REF!
C41: Sant Julià de Ramis-Medinyà | D41: 120 | E41: =-#REF! -> #REF! | F41: =D41+E41 -> #REF!
C42: Sarrià de Ter | D42: 120 | E42: =-#REF! -> #REF! | F42: =D42+E42 -> #REF!

Sheet import de licitació
B1: HABITATGES TOTAL | C1: HABITATGES PaP NUCLI | D1: HABITATGES BAIXES FREQÜÈNCIES | E1: HABITATGES DISSEMINATS | F1: ÀREES TANCADES | G1: GP NUCLIS | H1: GP BAIXES FREQÜÈNCIES | I1: GP DISSEMINATS | J1: IMPORT DE LICITACIÓ
A2: Aiguaviva | B2: =SUM(C2:E2) -> 272 | D2: =106+64 -> 170 | E2: 102 | F2: 2 | H2: 20 | I2: 10 | J2: 56171.506
A3: Bescanó | B3: =SUM(C3:E3) -> 2221 | C3: 1589 | D3: 337 | E3: 295 | F3: 5 | G3: 84 | H3: 2 | I3: 11 | J3: 398507.35
A4: Bordils | B4: =SUM(C4:E4) -> 745 | C4: 697 | E4: 48 | F4: 1 | G4: 55 | I4: 3 | J4: 148032.2
A5: Campllong | B5: =SUM(C5:E5) -> 112 | D5: 100 | E5: 12 | F5: 2 | H5: 37 | I5: 9 | J5: 38462.481
A6: Cervià deTer | B6: =SUM(C6:E6) -> 425 | C6: 332 | E6: 93 | F6: 1 | G6: 35 | I6: 2 | J6: 84428.64
A7: Flaçà | B7: =SUM(C7:E7) -> 492 | C7: 482 | E7: 10 | F7: 0.5 | G7: 57 | I7: 1 | J7: 110883.72
A8: Fornells de la Selva | B8: =SUM(C8:E8) -> 947 | C8: 761 | D8: 113 | E8: 73 | F8: 2 | G8: 23 | H8: 5 | I8: 3 | J8: 169284.46
A9: Juià | B9: =SUM(C9:E9) -> 142 | C9: 108 | E9: 34 | F9: 0 | G9: 14 | I9: 8 | J9: 29520.417
A10: Llambilles (NO LI CARRGEUEM LES 57 ACTIVITATS) | B10: =SUM(C10:E10) -> 263 | C10: =15+138 -> 153 | E10: 110 | F10: 2 | G10: 30 | I10: 24 | J10: 59518.251
A11: Quart | B11: =SUM(C11:E11) -> 1431 | C11: =1246-15 -> 1231 | E11: =170+30 -> 200 | F11: 4 | G11: =27+75-6 -> 96 | I11: 14 | J11: 273783.95
A12: Sant Gregori | B12: =SUM(C12:E12) -> 1394 | C12: 935 | D12: 207 | E12: 252 | F12: 4 | G12: 82 | H12: 10 | I12: 16 | J12: 300271.83
A13: Sant Joan de Mollet | B13: =SUM(C13:E13) -> 213 | C13: 206 | E13: 7 | F13: 0.5 | G13: 30 | H13: 6 | J13: 54296.453
A14: Sant Julià de Ramis | B14: =SUM(C14:E14) -> 1346 | C14: 760 | D14: 489 | E14: 97 | F14: 1 | G14: =235-90 -> 145 | H14: 77 | I14: 22 | J14: 372250.36
A15: Sarrià deTer | B15: =SUM(C15:E15) -> 2116 | C15: 2093 | E15: 23 | F15: 1 | G15: =84+90 -> 174 | I15: 2 | J15: 421765.65
B16: 12097 | C16: =SUM(C2:C15) -> 9347 | D16: =SUM(D2:D15) -> 1416 | E16: =SUM(E2:E15) -> 1356 | F16: =SUM(F2:F15) -> 26 | G16: =SUM(G2:G15) -> 825 | H16: =SUM(H2:H15) -> 157 | I16: =SUM(I2:I15) -> 125 | J16: =SUM(J2:J15) -> 2517177.3

Sheet BANYERES PODA
A4: MUNICIPI | B4: Nº banyeres
A5: Cervià de Ter | B5: 1
A6: Fornells de la Selva | B6: 2
A7: Sant Gregori | B7: 4
A8: Sant Julià de Ramis | B8: 4
A9: Sarrià de Ter | B9: 4
A10: TOTAL | B10: =SUM(B5:B9) -> 15
